BEGIN:VCALENDAR
VERSION:2.0
PRODID:-//hacksw/handcal//NONSGML v1.0//EN
BEGIN:VEVENT
SUMMARY:Sortie du dimanche
UID:0bdd6f5f-7063-41fd-81a1-729b4cc73b79
DTSTART:20270207T080000Z
DTEND:20270207T103000Z
LOCATION:Localisation   
CATEGORIES:Sportif
STATUS:
DESCRIPTION:<p><a
 href="https://www.openrunner.com/route-details/20617419"
 target="_blank" rel="noreferrer noopener"><span
 style="color:#e74c3c;">G1 - G2</span></a></p>
 
 <p><a
 href="https://www.openrunner.com/route-details/20617447"
 target="_blank" rel="noreferrer noopener"><span
 style="color:#3498db;">G3 - G4</span></a></p>
URL;VALUE=URI:https://www.cycloclubchateaubourg.fr/evenements/2027/02/07/sortie-du-dimanche-2181115
END:VEVENT
END:VCALENDAR
