BEGIN:VCALENDAR
VERSION:2.0
PRODID:-//hacksw/handcal//NONSGML v1.0//EN
BEGIN:VEVENT
SUMMARY:Sortie du dimanche
UID:0752b6f8-7cfa-4d04-8316-19c8a41eee88
DTSTART:20270124T080000Z
DTEND:20270124T110000Z
LOCATION:Localisation   
CATEGORIES:Sportif
STATUS:
DESCRIPTION:<p><a
 href="https://www.openrunner.com/route-details/20575347"
 target="_blank" rel="noreferrer noopener"><span
 style="color:#e74c3c;">G1 - G2</span></a></p>
 
 <p><a
 href="https://www.openrunner.com/route-details/20575361"
 target="_blank" rel="noreferrer noopener"><span
 style="color:#3498db;">G3 - G4</span></a></p>
URL;VALUE=URI:https://www.cycloclubchateaubourg.fr/evenements/2027/01/24/sortie-du-dimanche-2177553
END:VEVENT
END:VCALENDAR
