BEGIN:VCALENDAR
VERSION:2.0
PRODID:-//hacksw/handcal//NONSGML v1.0//EN
BEGIN:VEVENT
SUMMARY:Sortie du dimanche
UID:cb9e19e0-2827-49bb-9fe2-2fdcf5032bc5
DTSTART:20270117T080000Z
DTEND:20270117T110000Z
LOCATION:Localisation   
CATEGORIES:Sportif
STATUS:
DESCRIPTION:<p><a
 href="https://www.openrunner.com/route-details/20539233"
 target="_blank" rel="noreferrer noopener"><span
 style="color:#e74c3c;">G1 - G2</span></a></p>
 
 <p><a
 href="https://www.openrunner.com/route-details/20539246"
 target="_blank" rel="noreferrer noopener"><span
 style="color:#3498db;">G3 * G4</span></a></p>
URL;VALUE=URI:https://www.cycloclubchateaubourg.fr/evenements/2027/01/17/sortie-du-dimanche-2173834
END:VEVENT
END:VCALENDAR
