BEGIN:VCALENDAR
VERSION:2.0
PRODID:-//hacksw/handcal//NONSGML v1.0//EN
BEGIN:VEVENT
SUMMARY:Sortie du dimanche
UID:0f8a5e95-5f4a-4ae8-a8bd-530e47870601
DTSTART:20270103T080000Z
DTEND:20270103T110000Z
LOCATION:Localisation   
CATEGORIES:Sportif
STATUS:
DESCRIPTION:<p><a
 href="https://www.openrunner.com/route-details/17968096"
 target="_blank" rel="noreferrer noopener"><span
 style="color:#000000;">G1</span></a></p>
 
 <p><a
 href="https://www.openrunner.com/route-details/17968135"
 target="_blank" rel="noreferrer noopener"><span
 style="color:#e74c3c;">G2</span></a></p>
 
 <p><a
 href="https://www.openrunner.com/route-details/17968205"
 target="_blank" rel="noreferrer noopener"><span
 style="color:#2980b9;">G3</span></a></p>
 
 <p><a
 href="https://www.openrunner.com/route-details/17968263"
 target="_blank" rel="noreferrer noopener"><span
 style="color:#2ecc71;">G4</span></a></p>
URL;VALUE=URI:https://www.cycloclubchateaubourg.fr/evenements/2027/01/03/sortie-du-dimanche-1922983
END:VEVENT
END:VCALENDAR
