BEGIN:VCALENDAR
VERSION:2.0
PRODID:-//hacksw/handcal//NONSGML v1.0//EN
BEGIN:VEVENT
SUMMARY:Sortie du dimanche
UID:8249c71a-72a9-4fee-b81d-90ac27a4e8ab
DTSTART:20261220T080000Z
DTEND:20261220T110000Z
LOCATION:Localisation   
CATEGORIES:Sportif
STATUS:
DESCRIPTION:<p><a
 href="https://www.openrunner.com/route-details/20416656"
 target="_blank" rel="noreferrer noopener"><span
 style="color:#e74c3c;">G1 - G2</span></a></p>
 
 <p><a
 href="https://www.openrunner.com/route-details/20416661"
 target="_blank" rel="noreferrer noopener"><span
 style="color:#3498db;">G3 - G4</span></a></p>
 
 <p> </p>
URL;VALUE=URI:https://www.cycloclubchateaubourg.fr/evenements/2026/12/20/sortie-du-dimanche-2151815
END:VEVENT
END:VCALENDAR
