BEGIN:VCALENDAR
VERSION:2.0
PRODID:-//hacksw/handcal//NONSGML v1.0//EN
BEGIN:VEVENT
SUMMARY:Sortie du dimanche
UID:5d16f9cf-0e2c-462d-8b30-3e371bad1ee9
DTSTART:20261213T080000Z
DTEND:20261213T110000Z
LOCATION:Localisation   
CATEGORIES:Sportif
STATUS:
DESCRIPTION:<p><a
 href="https://www.openrunner.com/route-details/20387306"
 target="_blank" rel="noreferrer noopener"><span
 style="color:#e74c3c;">G1 - G2</span></a></p>
 
 <p><a
 href="https://www.openrunner.com/route-details/20387564"
 target="_blank" rel="noreferrer noopener"><span
 style="color:#3498db;">G3 - G4</span></a></p>
URL;VALUE=URI:https://www.cycloclubchateaubourg.fr/evenements/2026/12/13/sortie-du-dimanche-2147784
END:VEVENT
END:VCALENDAR
