BEGIN:VCALENDAR
VERSION:2.0
PRODID:-//hacksw/handcal//NONSGML v1.0//EN
BEGIN:VEVENT
SUMMARY:Telethon 2025
UID:09935d3a-ea04-47a1-8cd4-d0d6bc484e21
DTSTART:20261206T080000Z
DTEND:20261206T110000Z
LOCATION:Localisation   
CATEGORIES:Sportif
STATUS:
DESCRIPTION:<p><a
 href="https://www.openrunner.com/route-details/22958920"
 target="_blank" rel="noreferrer noopener"><span
 style="color:#e74c3c;">G1 - G2</span></a></p>
 
 <p><a
 href="https://www.openrunner.com/route-details/22959020"
 target="_blank" rel="noreferrer noopener"><span
 style="color:#3498db;">G3 - G4</span></a></p>
URL;VALUE=URI:https://www.cycloclubchateaubourg.fr/evenements/2026/12/06/telethon-2025-2365858
END:VEVENT
END:VCALENDAR
