BEGIN:VCALENDAR
VERSION:2.0
PRODID:-//hacksw/handcal//NONSGML v1.0//EN
BEGIN:VEVENT
SUMMARY:Sortie du dimanche
UID:65a3e83e-73d9-4893-b383-77d8386df6a2
DTSTART:20261115T080000Z
DTEND:20261115T110000Z
LOCATION:Localisation   
CATEGORIES:Sportif
STATUS:
DESCRIPTION:<p><a
 href="https://www.openrunner.com/route-details/20152037"
 target="_blank" rel="noreferrer noopener"><span
 style="color:#000000;">G1</span></a></p>
 
 <p><a
 href="https://www.openrunner.com/route-details/20152048"
 target="_blank" rel="noreferrer noopener"><span
 style="color:#e74c3c;">G2</span></a></p>
 
 <p><a
 href="https://www.openrunner.com/route-details/20152100"
 target="_blank" rel="noreferrer noopener"><span
 style="color:#3498db;">G3</span></a></p>
 
 <p><a
 href="https://www.openrunner.com/route-details/20152075"
 target="_blank" rel="noreferrer noopener"><span
 style="color:#2ecc71;">G4</span></a></p>
URL;VALUE=URI:https://www.cycloclubchateaubourg.fr/evenements/2026/11/15/sortie-du-dimanche-2119910
END:VEVENT
END:VCALENDAR
