BEGIN:VCALENDAR
VERSION:2.0
PRODID:-//hacksw/handcal//NONSGML v1.0//EN
BEGIN:VEVENT
SUMMARY:Sortie du dimanche
UID:f04110b2-8189-4b0d-9643-d981d887a6dd
DTSTART:20261108T080000Z
DTEND:20261108T110000Z
LOCATION:Localisation   
CATEGORIES:Sportif
STATUS:
DESCRIPTION:<p><a
 href="https://www.openrunner.com/route-details/20047547"
 target="_blank" rel="noreferrer noopener"><span
 style="color:#000000;">G1</span></a></p>
 
 <p><a
 href="https://www.openrunner.com/route-details/20047585"
 target="_blank" rel="noreferrer noopener"><span
 style="color:#e74c3c;">G2</span></a></p>
 
 <p><a
 href="https://www.openrunner.com/route-details/20047628"
 target="_blank" rel="noreferrer noopener"><span
 style="color:#3498db;">G3</span></a></p>
 
 <p><a
 href="https://www.openrunner.com/route-details/20047650"
 target="_blank" rel="noreferrer noopener"><span
 style="color:#2ecc71;">G4</span></a></p>
URL;VALUE=URI:https://www.cycloclubchateaubourg.fr/evenements/2026/11/08/sortie-du-dimanche-2111780
END:VEVENT
END:VCALENDAR
