BEGIN:VCALENDAR
VERSION:2.0
PRODID:-//hacksw/handcal//NONSGML v1.0//EN
BEGIN:VEVENT
SUMMARY:Pot de rentree
UID:dcabbf93-5184-4dc0-9359-f4b814dab240
DTSTART:20260905T220000Z
DTEND:20260906T220000Z
LOCATION:Localisation   
CATEGORIES:Sportif
STATUS:
URL;VALUE=URI:https://www.cycloclubchateaubourg.fr/evenements/2026/09/06/pot-de-rentree-2443784
END:VEVENT
END:VCALENDAR
